BEGIN:VCALENDAR
VERSION:2.0
PRODID:-//Frančiškanski samostan Nazarje - ECPv4.6.1//NONSGML v1.0//EN
CALSCALE:GREGORIAN
METHOD:PUBLISH
X-WR-CALNAME:Frančiškanski samostan Nazarje
X-ORIGINAL-URL:https://franciskani-nazarje.si
X-WR-CALDESC:Events for Frančiškanski samostan Nazarje
BEGIN:VEVENT
DTSTART;TZID=UTC+0:20170907T100000
DTEND;TZID=UTC+0:20170907T183000
DTSTAMP:20260421T120420
CREATED:20170907T124208Z
LAST-MODIFIED:20170907T162554Z
UID:6845-1504778400-1504809000@franciskani-nazarje.si
SUMMARY:Župnijski dan
DESCRIPTION:Vabljeni na župnijski dan v nedeljo\, 17.9.2017 ob 10 uri. \n
URL:https://franciskani-nazarje.si/dogodek/zupnijski-dan/
CATEGORIES:Župnija
END:VEVENT
END:VCALENDAR