BEGIN:VCALENDAR
VERSION:2.0
PRODID:-//Frančiškanski samostan Nazarje - ECPv4.6.1//NONSGML v1.0//EN
CALSCALE:GREGORIAN
METHOD:PUBLISH
X-WR-CALNAME:Frančiškanski samostan Nazarje
X-ORIGINAL-URL:https://franciskani-nazarje.si
X-WR-CALDESC:Events for Frančiškanski samostan Nazarje
BEGIN:VEVENT
DTSTART;VALUE=DATE:20200810
DTEND;VALUE=DATE:20200913
DTSTAMP:20260422T075009
CREATED:20200810T060813Z
LAST-MODIFIED:20200810T060813Z
UID:8039-1597017600-1599955199@franciskani-nazarje.si
SUMMARY:Vpis v prvi razred verouka 2020
DESCRIPTION:Od 24.do 30.8. naprej bo potekal vpis v 1. razred verouka. \nStarši\, ki želite vpisati otroke\, me pokličite na tel.: 051 202 594 ali \npišite na e-naslov: verouk.nazarje@gmail.com in se dogovorimo\, kdaj pridete vpisat otroke. \np. Andrej \n
URL:https://franciskani-nazarje.si/dogodek/vpis-v-prvi-razred-verouka-2020/
CATEGORIES:Župnija
ATTACH;FMTTYPE=image/jpeg:https://franciskani-nazarje.si/wp-content/uploads/2020/08/21230788_1432922566792248_7189911751776777162_n.jpg
END:VEVENT
END:VCALENDAR