BEGIN:VCALENDAR
VERSION:2.0
PRODID:-//Frančiškanski samostan Nazarje - ECPv4.6.1//NONSGML v1.0//EN
CALSCALE:GREGORIAN
METHOD:PUBLISH
X-WR-CALNAME:Frančiškanski samostan Nazarje
X-ORIGINAL-URL:https://franciskani-nazarje.si
X-WR-CALDESC:Events for Frančiškanski samostan Nazarje
BEGIN:VEVENT
DTSTART;VALUE=DATE:20230903
DTEND;VALUE=DATE:20230904
DTSTAMP:20260423T151327
CREATED:20230903T094952Z
LAST-MODIFIED:20230903T102307Z
UID:8643-1693699200-1693785599@franciskani-nazarje.si
SUMMARY:Vpis k Družinski ali osnovnošolski katehezi
DESCRIPTION:Spoštovani starši! \nV letošnjem katehetskem letu bo nekaj sprememb (več o tem si preberite v prilogi »Dopis za starše«). Poleg dopisa je objavljena tudi »Prijavnica h katehezi« s katero boste vpisali svojega otroka. To si natisnite\, na voljo pa je tudi natisnjena Prijavnica v cerkvi na mizi z Oznanili. \nIzpolnjene »Prijavnice h katehezi« (vključno s katehetskim prispevkom 20 €) lahko oddate v župnijski pisarni v torek\, sredo in četrtek (5. – 7. 9.) od 14.00 do 18.00. Kateheze bodo lahko obiskovali le otroci\, ki bodo vpisani. \nVabljeni k maši ob začetku katehetskega leta\, ki bo 1. oktobra ob 10.00. Takrat bomo pričeli tudi z Družinsko katehezo\, medtem ko bomo s Katehezami za otroke in najstnike pričeli v torek 3. oktobra po urniku\, ki je zapisan v priloženem dopisu. \np. Andraž z ekipo \nPrijavnica h katehezi 2023 \nDopis za starše 2023 \nprijavnica-h-katehezi-2023-24\ndopis-za-starse-2023-24\n
URL:https://franciskani-nazarje.si/dogodek/vpis-k-druzinski-ali-osnovnosolski-katehezi/
CATEGORIES:Župnija
ATTACH;FMTTYPE=image/jpeg:https://franciskani-nazarje.si/wp-content/uploads/2018/09/ribaapd.jpg
END:VEVENT
END:VCALENDAR