BEGIN:VCALENDAR
VERSION:2.0
PRODID:-//Frančiškanski samostan Nazarje - ECPv4.6.1//NONSGML v1.0//EN
CALSCALE:GREGORIAN
METHOD:PUBLISH
X-WR-CALNAME:Frančiškanski samostan Nazarje
X-ORIGINAL-URL:https://franciskani-nazarje.si
X-WR-CALDESC:Events for Frančiškanski samostan Nazarje
BEGIN:VEVENT
DTSTART;VALUE=DATE:20200405
DTEND;VALUE=DATE:20200420
DTSTAMP:20260421T221653
CREATED:20200405T122208Z
LAST-MODIFIED:20200405T122455Z
UID:7879-1586044800-1587340799@franciskani-nazarje.si
SUMMARY:Velikonočni prazniki 2020
DESCRIPTION:\n\n\n\n\nVeliki četrtek\, petek\, sobota in praznovanje velike noči \nZaradi trenutnih zdravstvenih razmer bo letos praznovanje velike noči potekalo drugače\, kot smo vajeni. \nVerjetno se ne bomo dosti videvali v živo\, bomo pa duhovno povezani v praznovanju Jezusovega vstajenja. \nKo ne moremo piti skupaj\, lahko sami poskrbimo za praznovanje. Prepričan sem\, da bomo našli način\, da se spomnimo in praznujemo Jezusovo vstajenje. Za prvo veliko noč so bile tudi posebne razmere\, vse se je šele začenjalo\, a začelo se je. Marija Magdalena se je odpravila h grobu in med potjo razmišljala\, kdo ji bo odvalil kamen od vhoda v grob. Rada je imela Jezusa in mu je hotela izkazati spoštovanje s tem\, da bi mazilila njegovo mrtvo telo. Začetek praznovanja je spomin na Gospodovo vstajenje\, je v hvaležnosti za to. Ljubezen do Jezusa bo našla pot za praznovanje… \nVoščiva vam lepo cvetno nedeljo in veselo veliko noč! \nTukaj je povezava do besedila slovenskih škofov glede praznovanja velike noči. \nPraznične maše in obrede boste lahko spremljali iz celotne Slovenije po televiziji\, radiu in preko spleta. Nam najbližje jih lahko spremljate iz Mozirja\, ure prenosov najdete tukaj. \nV Nazarjah bo za velikonočne praznike tako: \n\nveliki četrtek: maša ob 18.00\nveliki petek: obredni velikega ob 18.00\nvelika sobota: ob 19.00 velikonočna vigilija\n\no   blagoslov velikonočnih jedil\, ki nas spominjajo na Jezusovo vstajenje\, bo potekal takole: najprej bomo ob 14.00 po youtube kanalu spremljali blagoslov jedil iz Mozirja\, ob 14.30 bova vozila po župniji in blagoslavljala velikonočna jedila \no   načrt poti: začetek pri kapelici v krožišču pri pokopališču\, pot skozi Žlabor do Mlinarjevih\, tudi zgornji del\, nato naprej do Kokarij in skozi Kokarje po glavni cesti\, pri Goveku na glavno cesto in nazaj proti Dobletini\, levo po gornjem kraku naselja\, nazaj na glavno cesto proti Nazarjam\, še preostali del Dobletine\, nato na ulico Pod Slatino in vse druge ulice\, kjer so hiše\, sledijo stari in novi bloki (malo se bomo znašli)\, nato na Prihovo pri kmetiji Unat po zgornjem delu do Špendetovih in nazaj\, mimo križa skozi naselje proti glavni cesti\, sledi krog po Ind. coni\, pot nazaj čez Dreto in levo ob Savinji\, potem še del Zagradišča\, ki ob poti na samostanski hrib. \no   Lahko čakate ali ob poti pustite košare z velikonočnimi jedili. Peljala se bova mimo in vse blagoslovila. \n\nvelika noč: maše bodo kakor ob nedeljah\nvelikonočni ponedeljek: maše bodo kakor ob nedeljah\n\no   Ob velikonočnih praznikih si je bilo možno ogledati razstavo\, letos pa bo potekala drugače. Povabljeni ste\, da na elektronski naslov naše župnije zupnija.nazarje@gmail.com pošljete slike svojih izdelkov\, ki bodo objavljene na spletni strani naše župnije za veliko noč. Povabite tudi vse\, ki ne sledijo spletni strani\, pa so zagnani glede sodelovanja pri velikonočni razstavi. \no   Ker vas je danes precej poslalo ali pa verjetno na spletu že objavilo  fotografije butaric\, vaju prosiva\, da jih pošljete tudi na elektronski naslov zupnija.nazarje@gmail.com.  Ravno tako bodo objavljene. \n\n p. Andrej\n\n\n\n\n\n
URL:https://franciskani-nazarje.si/dogodek/velikonocni-prazniki-2020/
CATEGORIES:Župnija
ATTACH;FMTTYPE=image/jpeg:https://franciskani-nazarje.si/wp-content/uploads/2020/04/vstajenje-ikona.jpg
END:VEVENT
END:VCALENDAR