BEGIN:VCALENDAR
VERSION:2.0
PRODID:-//Frančiškanski samostan Nazarje - ECPv4.6.1//NONSGML v1.0//EN
CALSCALE:GREGORIAN
METHOD:PUBLISH
X-WR-CALNAME:Frančiškanski samostan Nazarje
X-ORIGINAL-URL:https://franciskani-nazarje.si
X-WR-CALDESC:Events for Frančiškanski samostan Nazarje
BEGIN:VEVENT
DTSTART;VALUE=DATE:20200414
DTEND;VALUE=DATE:20200518
DTSTAMP:20260422T025111
CREATED:20200414T222629Z
LAST-MODIFIED:20200416T072239Z
UID:7922-1586822400-1589759999@franciskani-nazarje.si
SUMMARY:Velikonočna razstava
DESCRIPTION:Vsako leto si je možno ogledati razstavo izdelkov z velikonočnimi motivi. Zaradi trenutnih zdravstvenih razmer razstava poteka na spletu. \nVelikonočnim motivom so dodane tudi fotografije butaric od cvetne nedelje. \nMajhno sličico kliknete\, da se poveča in potem lahko natančneje pogledate. Pod fotografijo je ime avtorja. \nHvala vsem\, ki ste poslali fotografije\, da razstava lahko tudi letos razveseljuje našo dušo. Bog povrni! \nVsem pa lep “sprehod” po razstavi. \np. Andrej \n\n		\n			#gallery-1 {\n				margin: auto;\n			}\n			#gallery-1 .gallery-item {\n				float: left;\n				margin-top: 10px;\n				text-align: center;\n				width: 33%;\n			}\n			#gallery-1 img {\n				border: 2px solid #cfcfcf;\n			}\n			#gallery-1 .gallery-caption {\n				margin-left: 0;\n			}\n			/* see gallery_shortcode() in wp-includes/media.php */\n		\n		\n			\n				\n			\n				\n				Suzana Časl\n				\n			\n				\n			\n				\n				Suzana Časl\n				\n			\n				\n			\n				\n				Suzana Časl\n				\n			\n				\n			\n				\n				Vladka Planovšek\n				\n			\n				\n			\n				\n				Na Cvetlični…\n				\n			\n				\n			\n				\n				Na Cvetlični…\n				\n			\n				\n			\n				\n				Na Cvetlični…\n				\n			\n				\n			\n				\n				Na Cvetlični…\n				\n			\n				\n			\n				\n				Bidrovi\n				\n			\n				\n			\n				\n				Miha in Matevž Verbuč\n				\n			\n				\n			\n				\n				Krajnerjevi\n				\n			\n				\n			\n				\n				Eva in Neža Vršnak\n				\n			\n				\n			\n				\n				Eva in Neža Vršnak\n				\n			\n				\n			\n				\n				Kotnikovi\n				\n			\n				\n			\n				\n				Kotnikovi\n				\n			\n				\n			\n				\n				Kotnikovi\n				\n			\n				\n			\n				\n				Kotnikovi\n				\n			\n				\n			\n				\n				Jelenovi\n				\n			\n				\n			\n				\n				Jelenovi\n				\n			\n				\n			\n				\n				Jelenovi\n				\n			\n				\n			\n				\n				Jelenovi\n				\n			\n				\n			\n				\n				Jelenovi\n				\n			\n				\n			\n				\n				Kotnikovi\n				\n			\n				\n			\n				\n				Kotnikovi\n				\n			\n				\n			\n				\n				Kotnikovi\n				\n			\n				\n			\n				\n				Kotnikovi\n				\n			\n				\n			\n				\n				Kotnikovi\n				\n			\n				\n			\n				\n				Kotnikovi\n				\n			\n				\n			\n				\n				Kotnikovi\n				\n			\n				\n			\n				\n				Kotnikovi\n				\n			\n				\n			\n				\n				Vse jasno… 🙂\n				\n			\n				\n			\n				\n				Vačovnikovi\n				\n			\n				\n			\n				\n				Vačovnikovi\n				\n			\n				\n			\n				\n				Bidrovi\n				\n			\n				\n			\n				\n				Bidrovi\n				\n			\n				\n			\n				\n				Bidrovi\n				\n			\n				\n			\n				\n				Bidrovi\n				\n			\n				\n			\n				\n				Bidrovi\n				\n			\n				\n			\n				\n				Bidrovi\n				\n			\n				\n			\n				\n				Bidrovi\n				\n			\n				\n			\n				\n				Bidrovi\n				\n			\n				\n			\n				\n				Suzana Časl\n				\n			\n				\n			\n				\n				Suzana Časl\n				\n			\n				\n			\n			\n				\n			\n				\n				Jelenovi\n				\n			\n				\n			\n				\n				Jelenovi\n				\n			\n				\n			\n				\n				Jelenovi\n				\n			\n				\n			\n				\n				Jelenovi\n				\n		\n\n  \n
URL:https://franciskani-nazarje.si/dogodek/velikonocna-razstava/
CATEGORIES:Župnija
ATTACH;FMTTYPE=image/jpeg:https://franciskani-nazarje.si/wp-content/uploads/2020/04/dscn2151.jpg
END:VEVENT
END:VCALENDAR