BEGIN:VCALENDAR
VERSION:2.0
PRODID:-//Frančiškanski samostan Nazarje - ECPv4.6.1//NONSGML v1.0//EN
CALSCALE:GREGORIAN
METHOD:PUBLISH
X-WR-CALNAME:Frančiškanski samostan Nazarje
X-ORIGINAL-URL:https://franciskani-nazarje.si
X-WR-CALDESC:Events for Frančiškanski samostan Nazarje
BEGIN:VEVENT
DTSTART;VALUE=DATE:20210404
DTEND;VALUE=DATE:20210505
DTSTAMP:20260423T003546
CREATED:20210404T092120Z
LAST-MODIFIED:20210404T092120Z
UID:8256-1617494400-1620172799@franciskani-nazarje.si
SUMMARY:Velikonočna razstava 2021
DESCRIPTION:Pozdravljeni na spletni razstavi 2021. Kot lani zaradi zdravstvenih razmer potek tukaj. \nZa razliko od lani pa ustvarjalnost zmeraj pokaže nekaj novega in lepega in razveseljuje. \nVelika noč prinaša sporočilo o Jezusovem vstajenju\, o življenju\, to je pisano\, barvito in raznoliko. \nHvala vsem ustvarjalcem\, da z nami delite svoje talente! \np. Andrej \n\n		\n			#gallery-1 {\n				margin: auto;\n			}\n			#gallery-1 .gallery-item {\n				float: left;\n				margin-top: 10px;\n				text-align: center;\n				width: 33%;\n			}\n			#gallery-1 img {\n				border: 2px solid #cfcfcf;\n			}\n			#gallery-1 .gallery-caption {\n				margin-left: 0;\n			}\n			/* see gallery_shortcode() in wp-includes/media.php */\n		\n		\n			\n				\n			\n				\n				Štefka Goltnik\n				\n			\n				\n			\n				\n				Ida Kotnik\n				\n			\n				\n			\n				\n				Miha Verbuč in Matevž Matko\n				\n			\n				\n			\n				\n				Miha Verbuč in Matevž Matko\n				\n			\n				\n			\n				\n				Anica Vačovnik\n				\n			\n				\n			\n				\n				Anica Vačovnik\n				\n			\n				\n			\n				\n				Anica Vačovnik\n				\n			\n				\n			\n				\n				Irena Vačovnik\n				\n			\n				\n			\n				\n				Irena Vačovnik\n				\n			\n				\n			\n				\n				Irena Vačovnik\n				\n			\n				\n			\n				\n				Irena Vačovnik\n				\n			\n				\n			\n				\n				Irena Vačovnik\n				\n			\n				\n			\n				\n				Ida Kotnik\n				\n			\n				\n			\n				\n				Miha Verbuč in Matevž Matko\n				\n			\n				\n			\n				\n				Dragica Kotnik\n				\n			\n				\n			\n				\n				Julija Kotnik\n				\n			\n				\n			\n				\n				Julija Kotnik\n				\n			\n		\n\n
URL:https://franciskani-nazarje.si/dogodek/velikonocna-razstava-2021/
CATEGORIES:Župnija
ATTACH;FMTTYPE=image/jpeg:https://franciskani-nazarje.si/wp-content/uploads/2021/04/20210403_224905-1.jpg
END:VEVENT
END:VCALENDAR