BEGIN:VCALENDAR
VERSION:2.0
PRODID:-//Frančiškanski samostan Nazarje - ECPv4.6.1//NONSGML v1.0//EN
CALSCALE:GREGORIAN
METHOD:PUBLISH
X-WR-CALNAME:Frančiškanski samostan Nazarje
X-ORIGINAL-URL:https://franciskani-nazarje.si
X-WR-CALDESC:Events for Frančiškanski samostan Nazarje
BEGIN:VEVENT
DTSTART;VALUE=DATE:20190416
DTEND;VALUE=DATE:20190423
DTSTAMP:20260421T204143
CREATED:20190416T115023Z
LAST-MODIFIED:20190416T115925Z
UID:7713-1555372800-1555977599@franciskani-nazarje.si
SUMMARY:Urnik dogajanja za velikonočne praznike v Nazarjah
DESCRIPTION:urnik-bogosluij-za-velikonone-praznike2019\n
URL:https://franciskani-nazarje.si/dogodek/urnik-dogajanja-za-velikonocne-praznike-v-nazarjah/
CATEGORIES:Župnija
ATTACH;FMTTYPE=image/jpeg:https://franciskani-nazarje.si/wp-content/uploads/2017/04/samostan_1_carl-e1493925513662.jpg
END:VEVENT
END:VCALENDAR