BEGIN:VCALENDAR
VERSION:2.0
PRODID:-//Frančiškanski samostan Nazarje - ECPv4.6.1//NONSGML v1.0//EN
CALSCALE:GREGORIAN
METHOD:PUBLISH
X-WR-CALNAME:Frančiškanski samostan Nazarje
X-ORIGINAL-URL:https://franciskani-nazarje.si
X-WR-CALDESC:Events for Frančiškanski samostan Nazarje
BEGIN:VEVENT
DTSTART;TZID=UTC+0:20210409T080000
DTEND;TZID=UTC+0:20210409T170000
DTSTAMP:20260423T022158
CREATED:20210409T061234Z
LAST-MODIFIED:20210409T061400Z
UID:8289-1617955200-1617987600@franciskani-nazarje.si
SUMMARY:Sveta maša na Nedeljo Božjega usmiljenja
DESCRIPTION:Na tej povezavi lahko spremljate sv. mašo v nedeljo 11.4.2021 ob 10. uri. \nhttps://us02web.zoom.us/j/89384843947?pwd=UStTcElRTmt6ckRVdnpKYnJCcFBGUT09 \nVabljeni! \np. Tomaž \n
URL:https://franciskani-nazarje.si/dogodek/sveta-masa-na-nedeljo-bozjega-usmiljenja/
CATEGORIES:Župnija
ATTACH;FMTTYPE=image/jpeg:https://franciskani-nazarje.si/wp-content/uploads/2021/04/usmiljeni-jezus.jpg
END:VEVENT
END:VCALENDAR