BEGIN:VCALENDAR
VERSION:2.0
PRODID:-//Frančiškanski samostan Nazarje - ECPv4.6.1//NONSGML v1.0//EN
CALSCALE:GREGORIAN
METHOD:PUBLISH
X-WR-CALNAME:Frančiškanski samostan Nazarje
X-ORIGINAL-URL:https://franciskani-nazarje.si
X-WR-CALDESC:Events for Frančiškanski samostan Nazarje
BEGIN:VEVENT
DTSTART;TZID=UTC+0:20210111T063000
DTEND;TZID=UTC+0:20210111T193000
DTSTAMP:20260422T202203
CREATED:20210107T160014Z
LAST-MODIFIED:20210107T184338Z
UID:8176-1610346600-1610393400@franciskani-nazarje.si
SUMMARY:Srečanje za starše
DESCRIPTION:Lep pozdrav! \nPovezava do ZOOM srečanja za starše v ponedeljek 11.1. je TUKAJ. (ID 852 9098 1943)\nSrečanje za starše otrok iz 6. razreda bo v ponedeljek ob 18.30. uri\nSrečanje za starše otrok 7.\, 8. in 9. razreda bo v ponedeljek ob 19. uri\n\nNavodila za uporabo ZOOM-a najdete spodaj. Pridite vsaj 5 min prej!\n\nUpam da ste praznike\, kljub omejitvam lepo doživeli in da ste v njih našli hrano in zagon za prihodnje dni.\n\nRad bi se vam najprej zahvalil za trud\, ki ga vlagate v to\, da med vami vera ostaja živa. Zdaj ste bili namreč vi tisti\, ki ste organizirali praznike\, poiskali duhovne vsebine\, pripravili za spremljanje maše… Če je prej bilo dovolj le priti\, je sedaj morala biti pobuda na vas in hvala za to.\n\nDejstvo karantene je v naše ustaljene urnike vneslo veliko prilagoditev in novosti in na veliko tega smo se že navadili\, veliko stvari pa nam tudi že preseda in si želimo spet normalno zaživeti. A vse kaže\, da bo letošnje leto do maja bolj ali manj takšno\, kot smo vajeni od oktobra naprej\, tako kažejo prognoze. S tem ne želim strašiti\, ampak le to\, sprejmemo situacijo in iz nje naredimo kar največ dobrega. Veliko dobrega so prinesle vse nove okoliščine\, ki jih živimo: bolj se zavedamo vrednosti osebnega odnosa\, družina je več časa skupaj\, veliko dejavnosti in opravkov\, prireditev je odpadlo\, pa kljub vsemu živimo. Za družine je to priložnost\, da se še bolj povežejo med seboj in zaživijo neko novo iskrenost.\n\nZdi se mi potrebno\, da si o tej novi situaciji izrečemo par besed\, se okrepimo med seboj s spodbudo in začrtamo pot za naprej.\nZato vas vabim na ZOOM srečanje za starše v ponedeljek 11.1. ob 18.30 (6. razred) oz. 19. uri (7. \, 8. in 9. razred).\n\np. Tomaž\n\n\nNAVODILA za uporabo ZOOM-a:\n\n\nKliknite na povezavo v zgornjem besedilu.\nOdprlo se Vam bo okno Želite odpreti aplikacijo ZOOM Meetings?. Izberete možnost Odpri aplikacijo ZOOM Meetings.\nIzpiše se Vam sporočilo Join with Computer Audio – prosim izberite to možnost s klikom.\nV kolikor video ne deluje\, izberite možnost Start Video (druga ikona z leve v spodnjem meniju).\nZa uporabo si lahko pogledate navodila tudi na Youtubu:  https://www.youtube.com/watch?v=fGbpwZNW3oI.\nKo vstopite v ZOOM boste imeli mikrofon izključen\, če želite govoriti\, ga morate vključiti (levo spodaj – ikona mikrofon). Uporabite lahko tudi chat (pogovor) in napišete sporočilo.\nČe za spremljanje uporabljate telefon ali tablico\, si je predhodno potrebno naložiti aplikacijo ZOOM Meetings. Če uporabljate računalnik\, je mogoče povezavo odpreti v brskalniku.\n\n\n\n
URL:https://franciskani-nazarje.si/dogodek/srecanje-za-starse/
CATEGORIES:Župnija
END:VEVENT
END:VCALENDAR