BEGIN:VCALENDAR
VERSION:2.0
PRODID:-//Frančiškanski samostan Nazarje - ECPv4.6.1//NONSGML v1.0//EN
CALSCALE:GREGORIAN
METHOD:PUBLISH
X-WR-CALNAME:Frančiškanski samostan Nazarje
X-ORIGINAL-URL:https://franciskani-nazarje.si
X-WR-CALDESC:Events for Frančiškanski samostan Nazarje
BEGIN:VEVENT
DTSTART;TZID=UTC+1:20191027T080000
DTEND;TZID=UTC+1:20191031T170000
DTSTAMP:20260421T150944
CREATED:20180914T201007Z
LAST-MODIFIED:20191226T092546Z
UID:7529-1572163200-1572541200@franciskani-nazarje.si
SUMMARY:Romanje v Assisi
DESCRIPTION:Vabljeni na duhovni odmik v Assisi od 27. do 31. oktobra 2019\, po poteh sv. Frančiška in sv. Klare. To ne bo turistično romanje\, ampak duhovni odmik na krajih\, kjer je navdih za svoje življenje dobil sv. Frančišek\, da je vzljubil Boga. Tam bomo ta navdih iskali tudi mi pod duhovnim vodstvom p. Tomaža Pinterja\, p. Marjana Čuka in s. Mateje Kraševec\, .  \nMožnost prijave na GSM 041 705 323 (p. Tomaž) ali samostan.nazarje@gmail.com. Prijave sprejemamo do zapolnitve mest (30) oz. do nedelje 30. semptembra. \nVeč o programu romanja in prijavi si preberite v prilogi :https://franciskani-nazarje.si/dogodek/romanje-v-assisi/. \nassisi_posamezniki_2019_light\n
URL:https://franciskani-nazarje.si/dogodek/romanje-v-assisi/
CATEGORIES:Romanje,Župnija
ATTACH;FMTTYPE=image/jpeg:https://franciskani-nazarje.si/wp-content/uploads/2018/09/assisi-27.jpg
END:VEVENT
END:VCALENDAR