BEGIN:VCALENDAR
VERSION:2.0
PRODID:-//Frančiškanski samostan Nazarje - ECPv4.6.1//NONSGML v1.0//EN
CALSCALE:GREGORIAN
METHOD:PUBLISH
X-WR-CALNAME:Frančiškanski samostan Nazarje
X-ORIGINAL-URL:https://franciskani-nazarje.si
X-WR-CALDESC:Events for Frančiškanski samostan Nazarje
BEGIN:VEVENT
DTSTART;VALUE=DATE:20210331
DTEND;VALUE=DATE:20210405
DTSTAMP:20260422T230208
CREATED:20210331T163246Z
LAST-MODIFIED:20210401T135545Z
UID:8243-1617148800-1617580799@franciskani-nazarje.si
SUMMARY:Prenosi bogoslužij od 1. do 4. aprila 2021 in drugo
DESCRIPTION:Veliki teden v spremenjenih razmerah \nDragi bratje in sestre\, zaradi novonastalih okoliščin bo velikonočno praznovanje potekalo drugače\, kot je bilo načrtovano in objavljeno. Obrede boste lahko spremljali po zoomu in nato prišli v cerkev k posamičnemu obhajilu. \nVeliki četrtek – 1. april \n\nob 18.00 prenos svete maše po zoomu in po maši posamično obhajilo v cerkvi od 19.00 do 20.00\n\nVeliki petek – 2. april \n\nob 18.00 prenos obredov velikega petka po zoomu ob 18.00 in od 19.00 do 20.00 posamično obhajilo v cerkvi\n\nVelika sobota – 3. april \n\nob 6.45 blagoslov ognja in nato posamično prihajanje na hrib\nglede blagoslovljanja velikonočnih jedil boste obveščeni ustno\nob 18.00 prenos velikonočne vigilije po zoomu in po koncu obhajilo v cerkvi od 19.00 do 20.00\n\nVelika noč – 4. april \n\nprenos svete maše po zoomu ob 9.00 in posamično obhajilo v cerkvi od 10.00 do 11.00\n\nZoom povezava za prenose bogoslužij \n\n(za dostop preko računalnika): https://us02web.zoom.us/j/89384843947?pwd=UStTcElRTmt6ckRVdnpKYnJCcFBGUT09\n(za dostop preko mobilnega telefona): Meeting ID: 893 8484 3947\n\n  \nRazstava velikonočnih predmetov bo potekala na spletni strani naše župnije\, fotografije izdelkov\, povezanih z veliko nočjo\, pošljite na elektronski naslov župnije zupnija.nazarje@gmail.com do sobote zvečer. Na veliko noč bodo fotografij objavljene na spletni strani naše župnije. \nŽeliva vam vesele praznike Jezusovega vstajenja! \np. Andrej in p. Tomaž \n
URL:https://franciskani-nazarje.si/dogodek/prenosi-bogosluzij-1-do-4-aprila-2021-blagoslov-ognja-jedil-in-velikonocna-razstava/
CATEGORIES:Župnija
ATTACH;FMTTYPE=image/jpeg:https://franciskani-nazarje.si/wp-content/uploads/2019/02/evharistija-1.jpg
END:VEVENT
END:VCALENDAR