BEGIN:VCALENDAR
VERSION:2.0
PRODID:-//Frančiškanski samostan Nazarje - ECPv4.6.1//NONSGML v1.0//EN
CALSCALE:GREGORIAN
METHOD:PUBLISH
X-WR-CALNAME:Frančiškanski samostan Nazarje
X-ORIGINAL-URL:https://franciskani-nazarje.si
X-WR-CALDESC:Events for Frančiškanski samostan Nazarje
BEGIN:VEVENT
DTSTART;TZID=UTC+0:20190328T180000
DTEND;TZID=UTC+0:20190328T193000
DTSTAMP:20260421T180937
CREATED:20190326T121454Z
LAST-MODIFIED:20190326T121454Z
UID:7686-1553796000-1553801400@franciskani-nazarje.si
SUMMARY:Postni nagovor dr. Karla Gržana v četrtek 28. marca ob 18.00
DESCRIPTION:V četrtek 28. marca ob 18.00 bo v dvorani našega samostana postni nagovor dr. Karla Gržana. Naslov nagovora je O tistem veselju\, ki osvobaja. Lepo vabljeni! \n
URL:https://franciskani-nazarje.si/dogodek/postni-nagovor-dr-karla-grzana-v-cetrtek-28-marca-ob-18-00/
CATEGORIES:Župnija
END:VEVENT
END:VCALENDAR