BEGIN:VCALENDAR
VERSION:2.0
PRODID:-//Frančiškanski samostan Nazarje - ECPv4.6.1//NONSGML v1.0//EN
CALSCALE:GREGORIAN
METHOD:PUBLISH
X-WR-CALNAME:Frančiškanski samostan Nazarje
X-ORIGINAL-URL:https://franciskani-nazarje.si
X-WR-CALDESC:Events for Frančiškanski samostan Nazarje
BEGIN:VEVENT
DTSTART;VALUE=DATE:20200924
DTEND;VALUE=DATE:20210201
DTSTAMP:20260422T104208
CREATED:20200924T072904Z
LAST-MODIFIED:20200924T072904Z
UID:8054-1600905600-1612137599@franciskani-nazarje.si
SUMMARY:Nov urnik delavniških svetih maš od oktobra 2020 naprej
DESCRIPTION:Od 5. oktobra 2020 dalje velja nov red delavniških svetih maš. \nV ponedeljek\, torek in sredo bodo svete maše odslej v cerkvi zvečer ob 19.00. \nMaše ob četrtkih\, petkih in sobotah pa bodo zjutraj ob 6.30 v kapeli pri sestrah klarisah. \nMaše pri sestrah klarisah bodo sicer potekale od ponedeljka \ndo sobote ob 6.30. Bodo brez hvalnic. \nHvala za razumevanje! Prosim vas\, da to novico posredujte naprej. \n  \np. Andrej Pollak\, župnik \n
URL:https://franciskani-nazarje.si/dogodek/nov-urnik-delavniskih-svetih-mas-od-oktobra-2020-naprej/
CATEGORIES:Župnija
ATTACH;FMTTYPE=image/jpeg:https://franciskani-nazarje.si/wp-content/uploads/2019/02/evharistija-1.jpg
END:VEVENT
END:VCALENDAR