BEGIN:VCALENDAR
VERSION:2.0
PRODID:-//Frančiškanski samostan Nazarje - ECPv4.6.1//NONSGML v1.0//EN
CALSCALE:GREGORIAN
METHOD:PUBLISH
X-WR-CALNAME:Frančiškanski samostan Nazarje
X-ORIGINAL-URL:https://franciskani-nazarje.si
X-WR-CALDESC:Events for Frančiškanski samostan Nazarje
BEGIN:VEVENT
DTSTART;TZID=UTC+0:20180907T080000
DTEND;TZID=UTC+0:20180907T170000
DTSTAMP:20260421T133424
CREATED:20180907T122426Z
LAST-MODIFIED:20180907T122426Z
UID:7517-1536307200-1536339600@franciskani-nazarje.si
SUMMARY:Navodila za starše 4.\, 5.\, 6. in 7. razreda
DESCRIPTION:Obvestilo \nObvestilo staršem 4.\, 5.\, 6. 7. razreda. \nVerouk pričnemo v 3. tednu septembra za otoke. \n\nrazred bo imel redno uro verouka vsak 1. in 3. torek v mesecu ob 14.30 (izjema je januar)\nrazred bo imel redno uro verouka vsak 2. in 4. torek v mesecu ob 14.30\nrazred bo imel redno uro verouka vsak 1. in 3. torek v mesecu ob 16.00 (izjema je januar\, 6. razredu se pridružijo dekleta 7. razreda)\n\n\nrazred (fantje) bo imel redno uro verouka vsak 2. in 4. torek v mesecu ob 16.00\n\n\nSestanki za starše bodo v 2. tednu septembra: \n4. razred – torek ob 18.00 \n5. razred – torek ob 19.00 \n6. razred – sreda ob 18.00 \n7. razred – četrtek ob 18.00 \nStarši\, ki imajo dva ali več otrok v razredih od 4. do 7. se lahko udeležijo samo enega sestanka. \np. Tomaž \n
URL:https://franciskani-nazarje.si/dogodek/navodila-za-starse-4-5-6-in-7-razreda/
CATEGORIES:Župnija
END:VEVENT
END:VCALENDAR