BEGIN:VCALENDAR
VERSION:2.0
PRODID:-//Frančiškanski samostan Nazarje - ECPv4.6.1//NONSGML v1.0//EN
CALSCALE:GREGORIAN
METHOD:PUBLISH
X-WR-CALNAME:Frančiškanski samostan Nazarje
X-ORIGINAL-URL:https://franciskani-nazarje.si
X-WR-CALDESC:Events for Frančiškanski samostan Nazarje
BEGIN:VEVENT
DTSTART;TZID=UTC+0:20211201T080000
DTEND;TZID=UTC+0:20211201T170000
DTSTAMP:20260423T071249
CREATED:20211201T152109Z
LAST-MODIFIED:20211201T152307Z
UID:8391-1638345600-1638378000@franciskani-nazarje.si
SUMMARY:Molitev v družini - Zoom srečanje
DESCRIPTION:V začetku adventnega časa se bomo srečali in ob pričevanjih dveh družin poklepetali o tem kako oblikovati molitev v družini. \nVabljeni na Zoom v sredo 1. decembra ob 20. uri. \nPovezava: \nLink za povezavo: Join Zoom Meeting\nhttps://us02web.zoom.us/j/87848202032?pwd=aWpUSzlrRlFoOHM1Y2lPY1ZmbE9NUT09 \nMeeting ID: 878 4820 2032 \nPasscode: 207300 \n
URL:https://franciskani-nazarje.si/dogodek/molitev-v-druzini-zoom-srecanje/
CATEGORIES:Župnija
END:VEVENT
END:VCALENDAR