BEGIN:VCALENDAR
VERSION:2.0
PRODID:-//Frančiškanski samostan Nazarje - ECPv4.6.1//NONSGML v1.0//EN
CALSCALE:GREGORIAN
METHOD:PUBLISH
X-WR-CALNAME:Frančiškanski samostan Nazarje
X-ORIGINAL-URL:https://franciskani-nazarje.si
X-WR-CALDESC:Events for Frančiškanski samostan Nazarje
BEGIN:VEVENT
DTSTART;TZID=UTC+0:20181005T190000
DTEND;TZID=UTC+0:20181005T200000
DTSTAMP:20260421T171630
CREATED:20181002T154622Z
LAST-MODIFIED:20181002T154919Z
UID:7592-1538766000-1538769600@franciskani-nazarje.si
SUMMARY:Ljudski večer - Le predi\, dekle predi ...
DESCRIPTION:Kulturno društvo sv. Martina Marija Nazaret \nvabi  \nna glasbeni večer \nin razstavo čipk nazarskih kleklaric \nv petek\, 5. oktobra 2018 ob 19. uri\nv dvorano nazarskega samostana. \nLepo vabljeni! \n \n
URL:https://franciskani-nazarje.si/dogodek/ljudski-vecer-le-predi-dekle-predi/
LOCATION:Slovenija
CATEGORIES:Romanje,Župnija
ATTACH;FMTTYPE=image/png:https://franciskani-nazarje.si/wp-content/uploads/2018/10/capture.png
END:VEVENT
END:VCALENDAR