BEGIN:VCALENDAR
VERSION:2.0
PRODID:-//Frančiškanski samostan Nazarje - ECPv4.6.1//NONSGML v1.0//EN
CALSCALE:GREGORIAN
METHOD:PUBLISH
X-WR-CALNAME:Frančiškanski samostan Nazarje
X-ORIGINAL-URL:https://franciskani-nazarje.si
X-WR-CALDESC:Events for Frančiškanski samostan Nazarje
BEGIN:VEVENT
DTSTART;TZID=UTC+0:20190421T180000
DTEND;TZID=UTC+0:20190421T200000
DTSTAMP:20260421T190916
CREATED:20190416T121735Z
LAST-MODIFIED:20190416T121735Z
UID:7719-1555869600-1555876800@franciskani-nazarje.si
SUMMARY:Koncert ansambla St. Peter's Euro Tour Band in kvinteta Sončnice na veliko noč ob 18.00
DESCRIPTION:koncert-21-4-119\n
URL:https://franciskani-nazarje.si/dogodek/koncert-ansambla-st-peters-euro-tour-band-in-kvinteta-soncnice-na-veliko-noc-ob-18-00/
CATEGORIES:Župnija
ATTACH;FMTTYPE=image/jpeg:https://franciskani-nazarje.si/wp-content/uploads/2019/04/note.jpg
END:VEVENT
END:VCALENDAR