BEGIN:VCALENDAR
VERSION:2.0
PRODID:-//Frančiškanski samostan Nazarje - ECPv4.6.1//NONSGML v1.0//EN
CALSCALE:GREGORIAN
METHOD:PUBLISH
X-WR-CALNAME:Frančiškanski samostan Nazarje
X-ORIGINAL-URL:https://franciskani-nazarje.si
X-WR-CALDESC:Events for Frančiškanski samostan Nazarje
BEGIN:VEVENT
DTSTART;VALUE=DATE:20201015
DTEND;VALUE=DATE:20201102
DTSTAMP:20260422T105857
CREATED:20201016T193928Z
LAST-MODIFIED:20201016T194129Z
UID:8063-1602720000-1604275199@franciskani-nazarje.si
SUMMARY:Delovanje naše župnije Nazarje od 15.10.2020
DESCRIPTION:Dragi bratje in sestre\, kot ste verjetno že zasledili\, smo zopet v času\, ko začasno ne bo javnih bogoslužji v cerkvi. Take okoliščine nam ponujajo možnost\, da gradimo občestvo\, našo župnijsko skupnost na drugačne načine\, kot smo jih bili vajeni doslej. \nTukaj je povezava do sporočila\, ki so nam ga poslali naši škofje. \nKar se tiče našega občestva\, ki se gledano na statistične regije\, uvršča na seznam »rdečih področij«\, to pomeni\, da za nekaj časa ne bo srečanj na ravni župnije\, ne bo svetih maš v cerkvi in tudi ne verouka. \nSvete maše ob nedeljah bo možno spremljati preko raznih prenosov\, kakor smo bili vajeni od marca naprej. V teh dneh se jim bo pridružil tudi prenos iz domače cerkve v Nazarjah\, prenos bo od 10.00. Natančnejši podatki glede tega prenosa bodo objavljeni tukaj na spletni strani takoj\, ko bodo urejene vse tehnične zadeve. \nImeli boste možnost prejeti sveto obhajilo v cerkvi\, to bo v nedeljo med 8.00 in 9.00. Pripeljete se na hrib\, vstopite v cerkev in prejmete obhajilo\, se zadržite v kratki molitvi in nato ponesete Jezusa\, ki ga boste prejeli\, domov\, kot sicer\, ko smo skupaj pri maši. \nPod določenimi pogoji greste lahko tudi k spovedi\, prosim\, da naju glede tega pokličete in se dogovorimo za čas. \nGlede verouka bodo starši veroučencev dobili natančnejša navodila. \nMir in dobro! \np. Andrej Pollak\, župnik \n
URL:https://franciskani-nazarje.si/dogodek/delovanje-nase-zupnije-nazarje-od-15-10-2020/
CATEGORIES:Župnija
ATTACH;FMTTYPE=image/jpeg:https://franciskani-nazarje.si/wp-content/uploads/2017/09/14.jpg
END:VEVENT
END:VCALENDAR