BEGIN:VCALENDAR
VERSION:2.0
PRODID:-//Frančiškanski samostan Nazarje - ECPv4.6.1//NONSGML v1.0//EN
CALSCALE:GREGORIAN
METHOD:PUBLISH
X-WR-CALNAME:Frančiškanski samostan Nazarje
X-ORIGINAL-URL:https://franciskani-nazarje.si
X-WR-CALDESC:Events for Frančiškanski samostan Nazarje
BEGIN:VEVENT
DTSTART;TZID=UTC+0:20200321T080000
DTEND;TZID=UTC+0:20200726T170000
DTSTAMP:20260421T204306
CREATED:20200321T214348Z
LAST-MODIFIED:20200322T094118Z
UID:7863-1584777600-1595782800@franciskani-nazarje.si
SUMMARY:Darovanje za mašne namene
DESCRIPTION:V nedeljo 29.3.2020 je predviden začetek darovanja za svete maše za obdobje štirih mesecev\, od maja do konca avgusta. \nČe bodo takrat že maše\, pobiramo po maši v živo. \nKer pa zaradi trenutne zdravstvene situacije verjetno tako ne bo šlo\, velja\, da pokličete na telefonsko številko 051-202-594 po 8.00 in se dogovorimo. \nHvala za razumevanje! \n
URL:https://franciskani-nazarje.si/dogodek/darovanje-za-masne-namene-od-meseca-maja-do-konca-avgusta/
CATEGORIES:Župnija
ATTACH;FMTTYPE=image/jpeg:https://franciskani-nazarje.si/wp-content/uploads/2018/06/mani-nameni.jpg
END:VEVENT
END:VCALENDAR