BEGIN:VCALENDAR
VERSION:2.0
PRODID:-//Frančiškanski samostan Nazarje - ECPv4.6.1//NONSGML v1.0//EN
CALSCALE:GREGORIAN
METHOD:PUBLISH
X-WR-CALNAME:Frančiškanski samostan Nazarje
X-ORIGINAL-URL:https://franciskani-nazarje.si
X-WR-CALDESC:Events for Frančiškanski samostan Nazarje
BEGIN:VEVENT
DTSTART;VALUE=DATE:20200410
DTEND;VALUE=DATE:20200412
DTSTAMP:20260421T234700
CREATED:20200410T085636Z
LAST-MODIFIED:20200411T063819Z
UID:7894-1586476800-1586649599@franciskani-nazarje.si
SUMMARY:Blagoslov velikonočnega ognja
DESCRIPTION:Na veliko soboto bomo blagoslovili ogenj ob 6.30.  – gorel bo do 9. ure. \nBlagoslov ne bo skupen dogodek srečevanja ampak ga bom opravil sam. Potem pa ga lahko posamič pridete iskat in odnesete domov. Pri tem ne nosite ognja sosedom in upoštevajte vse omejitve\, ki so trenutno v veljavi!!! To ni priložnost za srečevanje\, ampak izraz naše vere\, da luč Vstalega Kristusa prežari naše življenje!  \nBlagoslovljen ogenj na veliko soboto zjutraj pa spremlja naše delo vnemo pri pripravi lepega praznovanja Gospodovega Vstajenja po domovih. \nBlagoslov ognja lahko prav tako opravite doma sami. \n  \nBESEDILO BLAGOSLOVA velikonočnega ognja\, ki ga imate lahko doma v soboto zjutraj. \nKretnjo blagoslova\, ki jo opravi duhovnik\, izpustimo\, namesto blagoslova na koncu se pokrižamo. \nBlagoslov lahko prenesete in natisnete tukaj. \n  \nblagoslov-ognja-v-celoti.\n
URL:https://franciskani-nazarje.si/dogodek/blagoslov-velikonocnega-ognja-letos-doma/
CATEGORIES:Župnija
ATTACH;FMTTYPE=image/jpeg:https://franciskani-nazarje.si/wp-content/uploads/2020/04/img_20200411_063037-e1586587061690.jpg
END:VEVENT
END:VCALENDAR