BEGIN:VCALENDAR
VERSION:2.0
PRODID:-//Frančiškanski samostan Nazarje - ECPv4.6.1//NONSGML v1.0//EN
CALSCALE:GREGORIAN
METHOD:PUBLISH
X-WR-CALNAME:Frančiškanski samostan Nazarje
X-ORIGINAL-URL:https://franciskani-nazarje.si
X-WR-CALDESC:Events for Frančiškanski samostan Nazarje
BEGIN:VEVENT
DTSTART;TZID=UTC+1:20181226T080000
DTEND;TZID=UTC+1:20201206T170000
DTSTAMP:20260421T175733
CREATED:20191226T080320Z
LAST-MODIFIED:20200322T093520Z
UID:7627-1545811200-1607274000@franciskani-nazarje.si
SUMMARY:Blagoslov vašega doma
DESCRIPTION:Po blagoslovih bova\, p. Andrej in p. Tomaž\, hodila od 26. 12. 2019 do 5. 1. 2020. \nZa blagoslov se lahko vpišete na liste v cerkvi\, v tem primeru bova k vam zagotovo prišla. Sicer pa bova obhodila sosesko glede na zmožnosti v tistem dnevu. \nRazpored blagoslovov \n26.12. – četrtek \nPrihova in Ind. cona (popoldan\, oba) \n27.12. – petek – Zagradišče (cel dan) \nZavodice (cel dan) \n28.12. – sobota \nŽlabor (cel dan\, oba) \n29.12. – nedelja \nKokarje (od 13. ure naprej\, eden) \n30.12. –ponedeljek – Dobrovlje (cel dan) \n2.1. – četrtek – Dobletina (cel dan\, oba) \n3.1.  – petek – dopoldan obisk bolnikov \nNazarje – Zadrečka (popoldan\, oba) \n4.1. – sobota – Nazarje – ulice (cel dan\, oba) \n5.1. – nedelja – Nazarje – Zadrečka \n  \n
URL:https://franciskani-nazarje.si/dogodek/blagoslov-vasega-doma/
CATEGORIES:Župnija
ATTACH;FMTTYPE=image/jpeg:https://franciskani-nazarje.si/wp-content/uploads/2018/12/blagoslov_doma-450px-b.jpg
END:VEVENT
END:VCALENDAR