BEGIN:VCALENDAR
VERSION:2.0
PRODID:-//Frančiškanski samostan Nazarje - ECPv4.6.1//NONSGML v1.0//EN
CALSCALE:GREGORIAN
METHOD:PUBLISH
X-WR-CALNAME:Frančiškanski samostan Nazarje
X-ORIGINAL-URL:https://franciskani-nazarje.si
X-WR-CALDESC:Events for Frančiškanski samostan Nazarje
BEGIN:VEVENT
DTSTART;TZID=UTC+0:20211120T080000
DTEND;TZID=UTC+0:20211120T170000
DTSTAMP:20260423T053351
CREATED:20211120T132144Z
LAST-MODIFIED:20211120T132144Z
UID:8383-1637395200-1637427600@franciskani-nazarje.si
SUMMARY:Adventni večeri 2021
DESCRIPTION:To bodo večeri duhovnosti\, skupne hoje –  sinodalnosti in pogovora o župniji\, ko se bomo ob adventni Božji Besedi srečali in se spustili v pogovor\, v kakšni župniji živimo\, koliko nam pripomore župnija k duhovnemu življenju in kako lahko skupaj kaj spremenimo. \nAdventni večeri so namenjeni vsem\, vabljeni pa posebej sodelavci v župniji in vsi\, ki vam je domača župnija blizu in bi radi v njej živeli aktivno krščansko življenje. \nNA ADVENTNE VEČERE SE NI POTREBNO PREDHODNO PRIJAVITI. \nPrvo srečanje bo v torek\, 30. 11. 2021 ob 20. uri na ZOOM-u. Povezavo lahko najdete na spletni strani www.apostol.si \n
URL:https://franciskani-nazarje.si/dogodek/adventni-veceri-2021/
CATEGORIES:Župnija
END:VEVENT
END:VCALENDAR