BEGIN:VCALENDAR
VERSION:2.0
PRODID:-//Frančiškanski samostan Nazarje - ECPv4.6.1//NONSGML v1.0//EN
CALSCALE:GREGORIAN
METHOD:PUBLISH
X-WR-CALNAME:Frančiškanski samostan Nazarje
X-ORIGINAL-URL:https://franciskani-nazarje.si
X-WR-CALDESC:Events for Frančiškanski samostan Nazarje
BEGIN:VEVENT
DTSTART;VALUE=DATE:20200501
DTEND;VALUE=DATE:20200601
DTSTAMP:20260422T060617
CREATED:20200501T220511Z
LAST-MODIFIED:20200501T220938Z
UID:7994-1588291200-1590969599@franciskani-nazarje.si
SUMMARY:Delovanje naše župnije od 4. maja 2020 naprej
DESCRIPTION:Dragi bratje in sestre\, z današnjim dnem smo vstopili v mesec maj\, na vidiku je omilitev trenutnih varnostnih ukrepov. \nV ponedeljek 4. maja bomo zopet imeli svete maše. Od 13.3. se nismo videli pri bogoslužju\, v tem času smo bili povezani bolj na duhoven način\, zdaj bomo zopet tudi v živo. Veselim se tega\, saj spadamo skupaj. \nNaši škofje so nam za dogajanje v župnijah poslali nekaj navodil glede obhajanja svetih maš\, drugih zakramentov in delovanja skupin. \nTukaj lahko preberete splošna navodila glede obhajanja maše in drugih zakramentov. \nO maši in drugih zakramentih je bilo zgoraj napisano. Kako pa bo pri nas v Nazarjah? \n\nSvete maše pod določenimi pogoji bodo od 4. maja naprej.\nPomembno je\, da si\, ko vstopimo in izstopimo\, pri vhodu razkužimo roke\, nosimo zaščitno masko\, sedimo in hodimo na varni razdalji (1\,5 m) in obhajilo prejemamo samo na roko. V cerkvi  bodo označene klopi\, kjer se sedi na priporočeni razdalji 1\,5 m. Člani istega gospodinjstva sedijo skupaj v klopi\, sicer po dva v klopi\, vsak na svojem koncu. Na voljo bodo tudi stoli\, razporejeni po cerkvi. Možnost za spoved bo v loretski kapeli po ure pred sveto mašo vse dni v tednu.\nVerouka do nadaljnjega ne bo.\nStarši lepo vabljeni\, da doma ali morda skupaj s sosedi organizirate šmarnice. Na spletu imate možnosti za poslušanje ali pa prebiranje besedila. Šmarnice za otroke lahko sledite na tej povezavi\, za odrasle pa tukaj.\nV cerkvi bomo od 4. maja naprej ob 19.00 med delovniki brali otroške šmarnice z naslovom Največji dar.\nŠmarnice na Prihovi za zdaj ne pridejo v poštev. Če bo prišlo do spremembe določil glede javnega zbiranje\, pa bodo ob 19.00 pri kapelici.\nNedeljska šmarnična romanja po zaselkih bodo\, če bo odpravljena prepoved zbiranja na javnih mestih.\nPrvo obhajilo in birma bosta jeseni. Datuma bosta še sporočena.\n\nMir in dobro! \np. Andrej \n
URL:https://franciskani-nazarje.si/dogodek/7994/
CATEGORIES:Župnija
ATTACH;FMTTYPE=image/jpeg:https://franciskani-nazarje.si/wp-content/uploads/2019/02/samostan_1_salomon-1024x337.jpg
END:VEVENT
END:VCALENDAR